BEGIN:VCALENDAR
VERSION:2.0
PRODID:-//PALS - ECPv4.9.0//NONSGML v1.0//EN
CALSCALE:GREGORIAN
METHOD:PUBLISH
X-WR-CALNAME:PALS
X-ORIGINAL-URL:https://pals.org.au
X-WR-CALDESC:Events for PALS
BEGIN:VEVENT
DTSTART;TZID=UTC+10:20200320T083000
DTEND;TZID=UTC+10:20200320T153000
DTSTAMP:20200301T223242
CREATED:20200227T041926Z
LAST-MODIFIED:20200228T054713Z
UID:17008-1584693000-1584718200@pals.org.au
SUMMARY:Meeting the Individual Needs of Students 20 March 2020
DESCRIPTION: \nRegistration Link\n
URL:https://pals.org.au/event/meeting-the-individual-needs-of-students/
ORGANIZER;CN="PALS":MAILTO:sec.pals@gmail.com
END:VEVENT
END:VCALENDAR